BEGIN:VCALENDAR
VERSION:2.0
PRODID:DPCALENDAR
CALSCALE:GREGORIAN
X-WR-TIMEZONE:UTC
BEGIN:VEVENT
DTSTART;VALUE=DATE:20260213
DTEND;VALUE=DATE:20260215
UID:CE8A55D6-E397-4D69-BC1C-019664D6E173
SUMMARY:Stomatologija danas DDM
CREATED:20260209T135807Z
DTSTAMP:20260209T135807Z
URL:https://www.hkdm.hr/index.php/component/dpcalendar/event/1?calid=68
DESCRIPTION:TEČAJ ZA DOKTORE DENTALNE MEDICINE\NStomatologija danas\NSplit, 13. - 14. 2. 2026.\NEkonomski fakultet u Splitu, Cvite Fiskovića 5, 21 000 Split\NPROČITAJ VIŠE
X-ALT-DESC;FMTTYPE=text/html:<div><span style="font-size: 10pt;">TEČAJ ZA DOKTORE DENTALNE MEDICINE</span></div><h2><span><strong>Stomatologija danas</strong></span></h2><h5><strong>Split, 13. - 14. 2. 2026.</strong></h5><div>Ekonomski fakultet u Splitu, Cvite Fiskovića 5, 21 000 Split</div><div><a href="/index.php/component/sppagebuilder/page/831"><strong><span style="color: #c20000;">PROČITAJ VIŠE</span></strong></a></div>
LAST-MODIFIED:20260404T172146Z
SEQUENCE:4677819
LOCATION:Cvite Fiskovića\, 21111 Split\, Split-Dalmatia County\, Croatia
GEO:43.51175570;16.46698940
X-LOCATION-DISPLAYNAME:Cvite Fiskovića
X-ACCESS:1
X-HITS:14
X-COLOR:00488f
X-IMAGE-INTRO:https://www.hkdm.hr/images/hkdm_logo_icons/hkdm-tecaj-uzivo.png
X-SHOW-END-TIME:0
X-PUBLISH-UP:2026-02-09 15:02:12
END:VEVENT
BEGIN:VEVENT
DTSTART;VALUE=DATE:20260213
DTEND;VALUE=DATE:20260215
UID:4B8F3051-FB10-44A7-9DD7-81D9BBB6E332
SUMMARY:Stomatologija danas DT
CREATED:20260209T135807Z
DTSTAMP:20260209T135807Z
URL:https://www.hkdm.hr/index.php/component/dpcalendar/event/2?calid=68
DESCRIPTION:TEČAJ ZA DENTALNE TEHNIČARE\NStomatologija danas\NSplit, 13. - 14. 2. 2026.\NEkonomski fakultet u Splitu, Cvite Fiskovića 5, 21 000 Split\NPROČITAJ VIŠE
X-ALT-DESC;FMTTYPE=text/html:<div><span style="font-size: 10pt;">TEČAJ ZA DENTALNE TEHNIČARE</span></div><h2><span><strong>Stomatologija danas</strong></span></h2><h5><strong>Split, 13. - 14. 2. 2026.</strong></h5><div>Ekonomski fakultet u Splitu, Cvite Fiskovića 5, 21 000 Split</div><div><a href="/index.php/component/sppagebuilder/page/831"><strong><span style="color: #c20000;">PROČITAJ VIŠE</span></strong></a></div>
LAST-MODIFIED:20260404T170840Z
SEQUENCE:4677033
LOCATION:Cvite Fiskovića\, 21111 Split\, Split-Dalmatia County\, Croatia
GEO:43.51175570;16.46698940
X-LOCATION-DISPLAYNAME:Cvite Fiskovića
X-ACCESS:1
X-HITS:0
X-COLOR:1f8004
X-IMAGE-INTRO:https://www.hkdm.hr/images/hkdm_logo_icons/hkdm-tecaj-uzivo.png
X-SHOW-END-TIME:0
X-PUBLISH-UP:2026-02-09 15:02:12
END:VEVENT
BEGIN:VEVENT
DTSTART;VALUE=DATE:20260213
DTEND;VALUE=DATE:20260215
UID:82AC1136-D431-4C93-98DC-8BE921314F7E
SUMMARY:Stomatologija danas DH
CREATED:20260209T135807Z
DTSTAMP:20260209T135807Z
URL:https://www.hkdm.hr/index.php/component/dpcalendar/event/3?calid=68
DESCRIPTION:TEČAJ ZA DENTALNE HIGIJENIČARE\NStomatologija danas\NSplit, 13. - 14. 2. 2026.\NEkonomski fakultet u Splitu, Cvite Fiskovića 5, 21 000 Split\NPROČITAJ VIŠE
X-ALT-DESC;FMTTYPE=text/html:<div><span style="font-size: 10pt;">TEČAJ ZA DENTALNE HIGIJENIČARE</span></div><h2><span><strong>Stomatologija danas</strong></span></h2><h5><strong>Split, 13. - 14. 2. 2026.</strong></h5><div>Ekonomski fakultet u Splitu, Cvite Fiskovića 5, 21 000 Split</div><div><a href="/index.php/component/sppagebuilder/page/831"><strong><span style="color: #c20000;">PROČITAJ VIŠE</span></strong></a></div>
LAST-MODIFIED:20260404T171002Z
SEQUENCE:4677115
LOCATION:Cvite Fiskovića\, 21111 Split\, Split-Dalmatia County\, Croatia
GEO:43.51175570;16.46698940
X-LOCATION-DISPLAYNAME:Cvite Fiskovića
X-ACCESS:1
X-HITS:0
X-COLOR:f27900
X-IMAGE-INTRO:https://www.hkdm.hr/images/hkdm_logo_icons/hkdm-tecaj-uzivo.png
X-SHOW-END-TIME:0
X-PUBLISH-UP:2026-02-09 15:02:12
END:VEVENT
BEGIN:VEVENT
DTSTART;VALUE=DATE:20260213
DTEND;VALUE=DATE:20260215
UID:12BDC800-3D1B-4A64-A105-503BA46DAE1F
SUMMARY:Stomatologija danas DA
CREATED:20260209T135807Z
DTSTAMP:20260209T135807Z
URL:https://www.hkdm.hr/index.php/component/dpcalendar/event/4?calid=68
DESCRIPTION:TEČAJ ZA DENTALNE ASISTENTE\NStomatologija danas\NSplit, 13. - 14. 2. 2026.\NEkonomski fakultet u Splitu, Cvite Fiskovića 5, 21 000 Split\NPROČITAJ VIŠE
X-ALT-DESC;FMTTYPE=text/html:<div><span style="font-size: 10pt;">TEČAJ ZA DENTALNE ASISTENTE</span></div><h2><span><strong>Stomatologija danas</strong></span></h2><h5><strong>Split, 13. - 14. 2. 2026.</strong></h5><div>Ekonomski fakultet u Splitu, Cvite Fiskovića 5, 21 000 Split</div><div><a href="/index.php/component/sppagebuilder/page/831"><strong><span style="color: #c20000;">PROČITAJ VIŠE</span></strong></a></div>
LAST-MODIFIED:20260404T170951Z
SEQUENCE:4677104
LOCATION:Cvite Fiskovića\, 21111 Split\, Split-Dalmatia County\, Croatia
GEO:43.51175570;16.46698940
X-LOCATION-DISPLAYNAME:Cvite Fiskovića
X-ACCESS:1
X-HITS:0
X-COLOR:c20f75
X-IMAGE-INTRO:https://www.hkdm.hr/images/hkdm_logo_icons/hkdm-tecaj-uzivo.png
X-SHOW-END-TIME:0
X-PUBLISH-UP:2026-02-09 15:02:12
END:VEVENT
END:VCALENDAR